BEGIN:VCALENDAR
VERSION:2.0
PRODID:-//Hamilton Council on Aging - ECPv6.15.20//NONSGML v1.0//EN
CALSCALE:GREGORIAN
METHOD:PUBLISH
X-ORIGINAL-URL:https://coahamilton.ca
X-WR-CALDESC:Events for Hamilton Council on Aging
REFRESH-INTERVAL;VALUE=DURATION:PT1H
X-Robots-Tag:noindex
X-PUBLISHED-TTL:PT1H
BEGIN:VTIMEZONE
TZID:UTC
BEGIN:STANDARD
TZOFFSETFROM:+0000
TZOFFSETTO:+0000
TZNAME:UTC
DTSTART:20240101T000000
END:STANDARD
END:VTIMEZONE
BEGIN:VEVENT
DTSTART;TZID=UTC:20250728T100000
DTEND;TZID=UTC:20250728T110000
DTSTAMP:20260421T095807
CREATED:20250715T133657Z
LAST-MODIFIED:20250715T201642Z
UID:10000911-1753696800-1753700400@coahamilton.ca
SUMMARY:Caregiver Walking Group T.B. McQuesten Park
DESCRIPTION:Caregiving can be a demanding and isolating role\, so this walking group offers an opportunity for caregivers to step outside\, get moving\, and share experiences in a relaxed\, non-judgmental setting. This Caregiver Walking Group is designed to provide caregivers with a supportive\, social\, and health-focused space to connect with others\, while improving their physical and emotional well-being. \nMeet by the pavilion at T.B. McQuesten Park at 10:00am\, every other Monday. \nRegister with Ashley Zimmerman at Ashley.Zimmerman@von.ca or 905-523-1055 x6261
URL:https://coahamilton.ca/event/caregiver-walking-group-t-b-mcqueston-park-2/
ATTACH;FMTTYPE=image/png:https://coahamilton.ca/wp-content/uploads/2025/07/Walking-Group-T.B.-McQueston.png
END:VEVENT
END:VCALENDAR