BEGIN:VCALENDAR
VERSION:2.0
PRODID:-//Hamilton Council on Aging - ECPv6.15.20//NONSGML v1.0//EN
CALSCALE:GREGORIAN
METHOD:PUBLISH
X-ORIGINAL-URL:https://coahamilton.ca
X-WR-CALDESC:Events for Hamilton Council on Aging
REFRESH-INTERVAL;VALUE=DURATION:PT1H
X-Robots-Tag:noindex
X-PUBLISHED-TTL:PT1H
BEGIN:VTIMEZONE
TZID:UTC
BEGIN:STANDARD
TZOFFSETFROM:+0000
TZOFFSETTO:+0000
TZNAME:UTC
DTSTART:20250101T000000
END:STANDARD
END:VTIMEZONE
BEGIN:VEVENT
DTSTART;TZID=UTC:20260416T000000
DTEND;TZID=UTC:20260418T235959
DTSTAMP:20260421T143743
CREATED:20251209T090320Z
LAST-MODIFIED:20251209T090320Z
UID:10000915-1776297600-1776556799@coahamilton.ca
SUMMARY:2nd International Conference on Gravitation\, Astrophysics and Cosmology
DESCRIPTION:We are pleased to announce the 2nd International Conference on Gravitation\, Astrophysics and Cosmology (ICGAC2026)\, which will be held from April 16–18\, 2026\, in Paris\, France. ICGAC2026 aims to bring together leading researchers\, scientists\, and students from around the world to share the latest advancements and research findings in the fields of gravitation\, astrophysics\, and cosmology. The conference will feature keynote talks by renowned experts\, sessions on cutting-edge topics such as Gravitation Physics and Lensing\, Applied Relativity\, Solar and Stellar Physics\, Applied Physics\, and Neutrino Cosmology\, as well as opportunities for networking and collaboration. With a vibrant mix of academic and industry perspectives\, this event offers a unique platform for insightful discussions\, new partnerships\, and the exchange of groundbreaking ideas. Join us in Paris to be part of an engaging scientific experience and contribute to shaping the future of astrophysical research.
URL:https://coahamilton.ca/event/2nd-international-conference-on-gravitation-astrophysics-and-cosmology/
LOCATION:Write Your Venue In The Description
ATTACH;FMTTYPE=image/jpeg:https://coahamilton.ca/wp-content/uploads/2025/12/Astrophysics2026-Conplus-Logo.jpg
END:VEVENT
BEGIN:VEVENT
DTSTART;TZID=UTC:20260417T100000
DTEND;TZID=UTC:20260417T110000
DTSTAMP:20260421T143743
CREATED:20250706T190756Z
LAST-MODIFIED:20250706T192258Z
UID:10000207-1776420000-1776423600@coahamilton.ca
SUMMARY:Gage Park Walking Group
DESCRIPTION:Event: Gage Park Neighbourhood & Coffee Walking ClubDate: Every Friday MorningTime: 10:00 AMLocation: Gage Park – Meet at the Tropical Greenhouse Entrance📍 Address: 1000 Main Street East\, Hamilton\, ON \nSeniors\, caregivers\, and diverse community members in and around Gage Park are invited to join a friendly neighbourhood walking group every Friday morning. Enjoy a relaxing stroll through the park and nearby neighbourhood\, followed by a coffee for those who’d like to stay and chat. \nThis is a welcoming\, inclusive weekly gathering — free to join and open to all! \n☀️ Happens every week – rain or shine! \n📞 For more information:Join the Gage Park Neighbourhood Walking Group on Facebook
URL:https://coahamilton.ca/event/gage-park-walking-group/2026-04-17/
ATTACH;FMTTYPE=image/jpeg:https://coahamilton.ca/wp-content/uploads/2025/07/Gage-Park-Walking-Group-all.jpg
END:VEVENT
END:VCALENDAR