BEGIN:VCALENDAR
VERSION:2.0
PRODID:-//Hamilton Council on Aging - ECPv6.15.20//NONSGML v1.0//EN
CALSCALE:GREGORIAN
METHOD:PUBLISH
X-WR-CALNAME:Hamilton Council on Aging
X-ORIGINAL-URL:https://coahamilton.ca
X-WR-CALDESC:Events for Hamilton Council on Aging
REFRESH-INTERVAL;VALUE=DURATION:PT1H
X-Robots-Tag:noindex
X-PUBLISHED-TTL:PT1H
BEGIN:VTIMEZONE
TZID:UTC
BEGIN:STANDARD
TZOFFSETFROM:+0000
TZOFFSETTO:+0000
TZNAME:UTC
DTSTART:20200101T000000
END:STANDARD
END:VTIMEZONE
BEGIN:VEVENT
DTSTART;TZID=UTC:20210227T150000
DTEND;TZID=UTC:20210227T160000
DTSTAMP:20260419T154304
CREATED:20210224T203036Z
LAST-MODIFIED:20210224T203036Z
UID:10000026-1614438000-1614441600@coahamilton.ca
SUMMARY:Bursting out of Social Isolation – Saturdays 3:00PM Feb 20 – March 13th
DESCRIPTION:
URL:https://coahamilton.ca/event/bursting-out-of-social-isolation-saturdays-300pm-feb-20-march-13th-2/
ATTACH;FMTTYPE=image/jpeg:https://coahamilton.ca/wp-content/uploads/2021/02/Telephone-Event-Feb-20-March-13-AP-1.jpg
END:VEVENT
BEGIN:VEVENT
DTSTART;TZID=UTC:20210225T150000
DTEND;TZID=UTC:20210225T160000
DTSTAMP:20260419T154304
CREATED:20210217T235354Z
LAST-MODIFIED:20210217T235354Z
UID:10000024-1614265200-1614268800@coahamilton.ca
SUMMARY:Healthy Aging presented in Spanish
DESCRIPTION:
URL:https://coahamilton.ca/event/healthy-aging-presented-in-spanish-2/
ATTACH;FMTTYPE=application/pdf:https://coahamilton.ca/wp-content/uploads/2021/02/Flyer-HCOA-AFH-FEB-2021-Series-3.pdf
END:VEVENT
BEGIN:VEVENT
DTSTART;TZID=UTC:20210220T150000
DTEND;TZID=UTC:20210220T160000
DTSTAMP:20260419T154304
CREATED:20210217T231837Z
LAST-MODIFIED:20210217T233646Z
UID:10000022-1613833200-1613836800@coahamilton.ca
SUMMARY:Bursting out of Social Isolation - Saturdays 3:00PM  Feb 20 - March 13th
DESCRIPTION:
URL:https://coahamilton.ca/event/bursting-out-of-social-isolation/
ATTACH;FMTTYPE=image/jpeg:https://coahamilton.ca/wp-content/uploads/2021/02/Telephone-Event-Feb-20-March-13-AP-1.jpg
END:VEVENT
BEGIN:VEVENT
DTSTART;TZID=UTC:20210218T150000
DTEND;TZID=UTC:20210218T160000
DTSTAMP:20260419T154304
CREATED:20210217T235041Z
LAST-MODIFIED:20210218T000238Z
UID:10000023-1613660400-1613664000@coahamilton.ca
SUMMARY:Healthy Aging presented in Spanish
DESCRIPTION:
URL:https://coahamilton.ca/event/healthy-aging-presented-in-spanish/
ATTACH;FMTTYPE=application/pdf:https://coahamilton.ca/wp-content/uploads/2021/02/Flyer-HCOA-AFH-FEB-2021-Series-2.pdf
END:VEVENT
END:VCALENDAR