BEGIN:VCALENDAR
VERSION:2.0
PRODID:-//Hamilton Council on Aging - ECPv6.15.20//NONSGML v1.0//EN
CALSCALE:GREGORIAN
METHOD:PUBLISH
X-WR-CALNAME:Hamilton Council on Aging
X-ORIGINAL-URL:https://coahamilton.ca
X-WR-CALDESC:Events for Hamilton Council on Aging
REFRESH-INTERVAL;VALUE=DURATION:PT1H
X-Robots-Tag:noindex
X-PUBLISHED-TTL:PT1H
BEGIN:VTIMEZONE
TZID:UTC
BEGIN:STANDARD
TZOFFSETFROM:+0000
TZOFFSETTO:+0000
TZNAME:UTC
DTSTART:20200101T000000
END:STANDARD
END:VTIMEZONE
BEGIN:VEVENT
DTSTART;TZID=UTC:20210218T150000
DTEND;TZID=UTC:20210218T160000
DTSTAMP:20260422T023703
CREATED:20210217T235041Z
LAST-MODIFIED:20210218T000238Z
UID:10000023-1613660400-1613664000@coahamilton.ca
SUMMARY:Healthy Aging presented in Spanish
DESCRIPTION:
URL:https://coahamilton.ca/event/healthy-aging-presented-in-spanish/
ATTACH;FMTTYPE=application/pdf:https://coahamilton.ca/wp-content/uploads/2021/02/Flyer-HCOA-AFH-FEB-2021-Series-2.pdf
END:VEVENT
END:VCALENDAR