BEGIN:VCALENDAR
VERSION:2.0
PRODID:-//Hamilton Council on Aging - ECPv6.15.20//NONSGML v1.0//EN
CALSCALE:GREGORIAN
METHOD:PUBLISH
X-ORIGINAL-URL:https://coahamilton.ca
X-WR-CALDESC:Events for Hamilton Council on Aging
REFRESH-INTERVAL;VALUE=DURATION:PT1H
X-Robots-Tag:noindex
X-PUBLISHED-TTL:PT1H
BEGIN:VTIMEZONE
TZID:UTC
BEGIN:STANDARD
TZOFFSETFROM:+0000
TZOFFSETTO:+0000
TZNAME:UTC
DTSTART:20250101T000000
END:STANDARD
END:VTIMEZONE
BEGIN:VEVENT
DTSTART;TZID=UTC:20260521T093000
DTEND;TZID=UTC:20260523T173000
DTSTAMP:20260421T210339
CREATED:20251213T085806Z
LAST-MODIFIED:20251213T085806Z
UID:10000916-1779355800-1779557400@coahamilton.ca
SUMMARY:International Conference on Advances in Pharma\, Health and Medical Sciences
DESCRIPTION:Event Name: International Conference on Advances in Pharma\, Health and Medical Sciences\nShort Name: ICAPHS2026 \nDate: May 21–23\, 2026\nVenue: Madrid\, Spain\nWebsite: https://pharma2026.conplusmeetings.com/\nContact Email: icaphs@conplusmeetings.com\nOrganizer: Conplus Meetings\nConference Type: In-person & Virtual (Hybrid)\nTarget Audience: Pharma professionals\, healthcare researchers\, medical scientists\, academics\, clinicians\, industry leaders\, students \nFocus Areas / Themes:\nPharmacology & Drug Development\nToxicology & Safety Studies\nClinical & Translational Medicine\nBiotechnology & Biopharma\nHealthcare Innovation & Digital Health\nRegulatory Affairs & Policy\nPublic Health & Preventive Medicine \nRegistration Fees:\nEarly Bird (In-Person): $749\nEarly Bird (Virtual): $299 \nAccommodation Packages (optional): Available on request \nHighlights:\nKeynote Lectures from Global Experts\nScientific Sessions & Oral Presentations\nPoster Presentations & Abstract Book\nNetworking Opportunities with Pharma & Health Leaders\nExhibitions & Sponsorship Showcases
URL:https://coahamilton.ca/event/international-conference-on-advances-in-pharma-health-and-medical-sciences/
LOCATION:Write Your Venue In The Description
ATTACH;FMTTYPE=image/jpeg:https://coahamilton.ca/wp-content/uploads/2025/12/ICAPHS-Post-scaled.jpg
END:VEVENT
BEGIN:VEVENT
DTSTART;TZID=UTC:20260521T100000
DTEND;TZID=UTC:20260521T110000
DTSTAMP:20260421T210339
CREATED:20250708T073827Z
LAST-MODIFIED:20250708T074042Z
UID:10000693-1779357600-1779361200@coahamilton.ca
SUMMARY:Sackville Hill Walking Group
DESCRIPTION:Join a fun and free walking group every Thursday morning at 10:00 AM at Sackville Hill! The Sackville Hill Urban Walking Group welcomes older adults of all abilities to meet new people\, stay active\, and enjoy the outdoors together. Meet us at the entrance of Sackville Hill\, located at 780 Upper Wentworth Street in Hamilton. This community initiative is offered in partnership and leadership with the Hamilton Council on Aging\, local volunteers\, and the broader community\, and is supported by the Government of Canada’s New Horizons for Seniors Program. Let’s get walking—stay connected and healthy!
URL:https://coahamilton.ca/event/sackville-hill-walking-group/2026-05-21/
ATTACH;FMTTYPE=image/jpeg:https://coahamilton.ca/wp-content/uploads/2025/07/Sackville-Hill-Thursday-morning-scaled.jpg
END:VEVENT
BEGIN:VEVENT
DTSTART;TZID=UTC:20260522T100000
DTEND;TZID=UTC:20260522T110000
DTSTAMP:20260421T210340
CREATED:20250706T190756Z
LAST-MODIFIED:20250706T192258Z
UID:10000217-1779444000-1779447600@coahamilton.ca
SUMMARY:Gage Park Walking Group
DESCRIPTION:Event: Gage Park Neighbourhood & Coffee Walking ClubDate: Every Friday MorningTime: 10:00 AMLocation: Gage Park – Meet at the Tropical Greenhouse Entrance📍 Address: 1000 Main Street East\, Hamilton\, ON \nSeniors\, caregivers\, and diverse community members in and around Gage Park are invited to join a friendly neighbourhood walking group every Friday morning. Enjoy a relaxing stroll through the park and nearby neighbourhood\, followed by a coffee for those who’d like to stay and chat. \nThis is a welcoming\, inclusive weekly gathering — free to join and open to all! \n☀️ Happens every week – rain or shine! \n📞 For more information:Join the Gage Park Neighbourhood Walking Group on Facebook
URL:https://coahamilton.ca/event/gage-park-walking-group/2026-05-22/
ATTACH;FMTTYPE=image/jpeg:https://coahamilton.ca/wp-content/uploads/2025/07/Gage-Park-Walking-Group-all.jpg
END:VEVENT
END:VCALENDAR