BEGIN:VCALENDAR
VERSION:2.0
PRODID:-//Hamilton Council on Aging - ECPv6.15.20//NONSGML v1.0//EN
CALSCALE:GREGORIAN
METHOD:PUBLISH
X-WR-CALNAME:Hamilton Council on Aging
X-ORIGINAL-URL:https://coahamilton.ca
X-WR-CALDESC:Events for Hamilton Council on Aging
REFRESH-INTERVAL;VALUE=DURATION:PT1H
X-Robots-Tag:noindex
X-PUBLISHED-TTL:PT1H
BEGIN:VTIMEZONE
TZID:UTC
BEGIN:STANDARD
TZOFFSETFROM:+0000
TZOFFSETTO:+0000
TZNAME:UTC
DTSTART:20250101T000000
END:STANDARD
END:VTIMEZONE
BEGIN:VEVENT
DTSTART;TZID=UTC:20260528T093000
DTEND;TZID=UTC:20260530T173000
DTSTAMP:20260421T192326
CREATED:20251104T111840Z
LAST-MODIFIED:20251104T111840Z
UID:10000912-1779960600-1780162200@coahamilton.ca
SUMMARY:Global Summit on Vaccines\, Immunology & Public Health
DESCRIPTION:Advances in Vaccine Technologies mRNA Vaccines and Applications Viral Vector-Based Vaccines DNA Vaccines: Progress and Challenges Peptide and Protein-Based Vaccines Nanotechnology in Vaccine Delivery Novel Vaccine Adjuvants & Immunopotentiators Vaccines for Neglected Tropical Diseases Combination and Multivalent Vaccines Vaccine Formulation and Stability Innate and Adaptive Immune Mechanisms Immunogenetics and Vaccine Response Immunoinformatics in Vaccine Design Autoimmunity and Vaccination Immune System Aging and Vaccine Efficacy Mucosal Immunity and Oral Vaccines T-cell & B-cell Immunity in Vaccination Immune Evasion Mechanisms of Pathogens Immunoengineering and Synthetic Immunology Cold Chain and Logistics in Vaccine Distribution One Health Approach to Zoonotic Diseases Behavioral Science in Vaccine Uptake Vaccines Against Respiratory Viruses Media and Misinformation in Public Health Lessons Learned from COVID-19 Vaccine Trials Immunotoxicology and Safety Evaluation Childhood Immunization Strategies Health Economics of Vaccination Programs Regulatory Affairs and Vaccine Approvals Surveillance & Monitoring of Vaccine-Preventable Diseases Global Immunization Programs & Policies Phase I–IV Vaccine Trials: Insights and Outcomes Ethical Issues in Vaccine Testing Community Engagement and Vaccine Literacy 3D-Bioprinting for Immunological Models Herd Immunity in Vulnerable Populations Vaccines in Pregnancy: Benefits and Barriers Emerging Zoonoses & Vector-Borne Diseases Vaccine Hesitancy and Public Perception Pandemic Preparedness and Response Strategies Antimicrobial Resistance and Vaccine Role Vaccine Development for Bioterrorism Threats Training and Capacity Building in Immunology CRISPR and Genomics in Vaccine R&D Systems Biology in Vaccine Research Hepatitis Vaccines: Advances and Challenges Adolescent Immunization Coverage Maternal Immunization for Neonatal Protection Real-World Evidence and Post-Market Surveillance Role of NGOs in Immunization Programs Artificial Intelligence in Vaccine Discovery HIV\, Tuberculosis & Malaria Vaccine Development Vaccine Access and Equity in Low-Resource Settings Organoids and In-vitro Models for Vaccine Testing AI and Big Data in Epidemiological Forecasting Science Communication in Vaccine Awareness Blockchain in Vaccine Supply Chain Management Vaccine Clinical Trial Design and Implementation Geriatric Vaccines and Immune Senescence Personalized Vaccinology and Precision Medicine \nResearch Connects is delighted to extend a warm invitation to participants from across the globe to join us at the Global Summit on Vaccines\, Immunology & Public Health\, scheduled to take place from May 28–30\, 2026 in Madrid\, Spain.\nThe summit will feature keynote and plenary presentations by experts in the field. VACCINES2026 aims to unite global experts and young researchers to exchange ideas and explore key advancements in vaccine research and immunology. Scientific sessions will focus on Vaccine Design\, Immune Responses\, Novel Delivery Systems\, Pandemic Preparedness\, Public Health Strategies and Innovations like AI in Immunology and Cancer Immunotherapy offering insights into the future of global health.\nWe sincerely believe that VACCINES2026 will serve as an invaluable international platform for researchers worldwide. It will facilitate professional networking\, foster new collaborations\, and provide avenues for sharing state-of-the-art developments and innovative technologies in the field.\nWe eagerly anticipate your participation at VACCINES2026 in Madrid!
URL:https://coahamilton.ca/event/global-summit-on-vaccines-immunology-public-health/
LOCATION:Write Your Venue In The Description
END:VEVENT
BEGIN:VEVENT
DTSTART;TZID=UTC:20260528T100000
DTEND;TZID=UTC:20260528T110000
DTSTAMP:20260421T192326
CREATED:20250708T073827Z
LAST-MODIFIED:20250708T074042Z
UID:10000694-1779962400-1779966000@coahamilton.ca
SUMMARY:Sackville Hill Walking Group
DESCRIPTION:Join a fun and free walking group every Thursday morning at 10:00 AM at Sackville Hill! The Sackville Hill Urban Walking Group welcomes older adults of all abilities to meet new people\, stay active\, and enjoy the outdoors together. Meet us at the entrance of Sackville Hill\, located at 780 Upper Wentworth Street in Hamilton. This community initiative is offered in partnership and leadership with the Hamilton Council on Aging\, local volunteers\, and the broader community\, and is supported by the Government of Canada’s New Horizons for Seniors Program. Let’s get walking—stay connected and healthy!
URL:https://coahamilton.ca/event/sackville-hill-walking-group/2026-05-28/
ATTACH;FMTTYPE=image/jpeg:https://coahamilton.ca/wp-content/uploads/2025/07/Sackville-Hill-Thursday-morning-scaled.jpg
END:VEVENT
BEGIN:VEVENT
DTSTART;TZID=UTC:20260529T100000
DTEND;TZID=UTC:20260529T110000
DTSTAMP:20260421T192326
CREATED:20250706T190756Z
LAST-MODIFIED:20250706T192258Z
UID:10000219-1780048800-1780052400@coahamilton.ca
SUMMARY:Gage Park Walking Group
DESCRIPTION:Event: Gage Park Neighbourhood & Coffee Walking ClubDate: Every Friday MorningTime: 10:00 AMLocation: Gage Park – Meet at the Tropical Greenhouse Entrance📍 Address: 1000 Main Street East\, Hamilton\, ON \nSeniors\, caregivers\, and diverse community members in and around Gage Park are invited to join a friendly neighbourhood walking group every Friday morning. Enjoy a relaxing stroll through the park and nearby neighbourhood\, followed by a coffee for those who’d like to stay and chat. \nThis is a welcoming\, inclusive weekly gathering — free to join and open to all! \n☀️ Happens every week – rain or shine! \n📞 For more information:Join the Gage Park Neighbourhood Walking Group on Facebook
URL:https://coahamilton.ca/event/gage-park-walking-group/2026-05-29/
ATTACH;FMTTYPE=image/jpeg:https://coahamilton.ca/wp-content/uploads/2025/07/Gage-Park-Walking-Group-all.jpg
END:VEVENT
END:VCALENDAR