BEGIN:VCALENDAR
VERSION:2.0
PRODID:-//Hamilton Council on Aging - ECPv6.15.20//NONSGML v1.0//EN
CALSCALE:GREGORIAN
METHOD:PUBLISH
X-WR-CALNAME:Hamilton Council on Aging
X-ORIGINAL-URL:https://coahamilton.ca
X-WR-CALDESC:Events for Hamilton Council on Aging
REFRESH-INTERVAL;VALUE=DURATION:PT1H
X-Robots-Tag:noindex
X-PUBLISHED-TTL:PT1H
BEGIN:VTIMEZONE
TZID:UTC
BEGIN:STANDARD
TZOFFSETFROM:+0000
TZOFFSETTO:+0000
TZNAME:UTC
DTSTART:20250101T000000
END:STANDARD
END:VTIMEZONE
BEGIN:VEVENT
DTSTART;TZID=UTC:20260615T090000
DTEND;TZID=UTC:20260617T180000
DTSTAMP:20260422T020328
CREATED:20251105T090030Z
LAST-MODIFIED:20251105T090030Z
UID:10000913-1781514000-1781719200@coahamilton.ca
SUMMARY:2nd International Conference on Applied Science\, Engineering and Technology
DESCRIPTION:The 2nd International conference on Applied Science\, Engineering and Technology (ICAET2026)\, organized by Conplus Meeting will be held on June 15-17\, 2026 in Florence\, Italy. \nICAET2026 represent vital gatherings that unite experts and enthusiasts from diverse disciplines worldwide. These events serve as dynamic forums where cutting-edge research\, technological advancements\, and practical applications converge to address global challenges and foster innovation. \nApplied sciences such as Physics\, Chemistry\, Biology\, Environmental Science\, and Materials Science contribute to innovative solutions addressing global challenges. Concurrently\, Engineering disciplines encompass Civil\, Mechanical\, Electrical\, Chemical\, and Biomedical Engineering\, among others\, focusing on designing and implementing real-world solutions. Technology fields\, including Computer Science\, Information Technology\, Robotics\, Artificial Intelligence\, and Data Science\, Drive Digital Innovation and System Advancements\, shaping the future of technological applications and interdisciplinary collaborations in these dynamic conferences. \nJoin us at ICAET2026 in Florence\, Italy for a truly unforgettable experience! \nBest Regards\,\nLakshmi Prasanna | Program Coordinator\nICAET2026
URL:https://coahamilton.ca/event/2nd-international-conference-on-applied-science-engineering-and-technology/
LOCATION:Write Your Venue In The Description
ATTACH;FMTTYPE=image/jpeg:https://coahamilton.ca/wp-content/uploads/2025/11/kb.jpg
END:VEVENT
BEGIN:VEVENT
DTSTART;TZID=UTC:20260618T100000
DTEND;TZID=UTC:20260618T110000
DTSTAMP:20260422T020328
CREATED:20250708T073827Z
LAST-MODIFIED:20250708T074042Z
UID:10000697-1781776800-1781780400@coahamilton.ca
SUMMARY:Sackville Hill Walking Group
DESCRIPTION:Join a fun and free walking group every Thursday morning at 10:00 AM at Sackville Hill! The Sackville Hill Urban Walking Group welcomes older adults of all abilities to meet new people\, stay active\, and enjoy the outdoors together. Meet us at the entrance of Sackville Hill\, located at 780 Upper Wentworth Street in Hamilton. This community initiative is offered in partnership and leadership with the Hamilton Council on Aging\, local volunteers\, and the broader community\, and is supported by the Government of Canada’s New Horizons for Seniors Program. Let’s get walking—stay connected and healthy!
URL:https://coahamilton.ca/event/sackville-hill-walking-group/2026-06-18/
ATTACH;FMTTYPE=image/jpeg:https://coahamilton.ca/wp-content/uploads/2025/07/Sackville-Hill-Thursday-morning-scaled.jpg
END:VEVENT
BEGIN:VEVENT
DTSTART;TZID=UTC:20260619T100000
DTEND;TZID=UTC:20260619T110000
DTSTAMP:20260422T020328
CREATED:20250706T190756Z
LAST-MODIFIED:20250706T192258Z
UID:10000225-1781863200-1781866800@coahamilton.ca
SUMMARY:Gage Park Walking Group
DESCRIPTION:Event: Gage Park Neighbourhood & Coffee Walking ClubDate: Every Friday MorningTime: 10:00 AMLocation: Gage Park – Meet at the Tropical Greenhouse Entrance📍 Address: 1000 Main Street East\, Hamilton\, ON \nSeniors\, caregivers\, and diverse community members in and around Gage Park are invited to join a friendly neighbourhood walking group every Friday morning. Enjoy a relaxing stroll through the park and nearby neighbourhood\, followed by a coffee for those who’d like to stay and chat. \nThis is a welcoming\, inclusive weekly gathering — free to join and open to all! \n☀️ Happens every week – rain or shine! \n📞 For more information:Join the Gage Park Neighbourhood Walking Group on Facebook
URL:https://coahamilton.ca/event/gage-park-walking-group/2026-06-19/
ATTACH;FMTTYPE=image/jpeg:https://coahamilton.ca/wp-content/uploads/2025/07/Gage-Park-Walking-Group-all.jpg
END:VEVENT
END:VCALENDAR